BEGIN:VCALENDAR
VERSION:2.0
PRODID:-//SloWeAre - ECPv5.1.4//NONSGML v1.0//EN
CALSCALE:GREGORIAN
METHOD:PUBLISH
X-WR-CALNAME:SloWeAre
X-ORIGINAL-URL:https://www.sloweare.com
X-WR-CALDESC:Évènements pour SloWeAre
BEGIN:VTIMEZONE
TZID:Europe/Paris
BEGIN:DAYLIGHT
TZOFFSETFROM:+0100
TZOFFSETTO:+0200
TZNAME:CEST
DTSTART:20190331T010000
END:DAYLIGHT
BEGIN:STANDARD
TZOFFSETFROM:+0200
TZOFFSETTO:+0100
TZNAME:CET
DTSTART:20191027T010000
END:STANDARD
END:VTIMEZONE
BEGIN:VEVENT
DTSTART;TZID=Europe/Paris:20190404T100000
DTEND;TZID=Europe/Paris:20190404T200000
DTSTAMP:20260425T001951
CREATED:20190402T193530Z
LAST-MODIFIED:20230506T102749Z
UID:19652-1554372000-1554408000@www.sloweare.com
SUMMARY:[Event / Paris] Pause conscious pop-up
DESCRIPTION:Pop-up store organisé par Pause Fashion Hub avec plus de 30 créateurs responsables de mode et accessoires du monde entier. Des talks\, des exhibitions\, de la musique\, du networking inspirante pour repenser la mode de demain et redonner du sens au comportement des consommateurs. \nLa marque DanceFiber sera présente. 
URL:https://www.sloweare.com/evenement/pause-conscious-pop-up/2019-04-04/
LOCATION:126 rue de Turenne\, 126 rue de Turenne\, Paris\, 75003\, France
CATEGORIES:Pop-up,Récurrent,SloWeAre
ATTACH;FMTTYPE=image/jpeg:https://www.sloweare.com/wp-content/uploads/2019/04/pause-pop-up-le-marais-4-10-april.jpg
ORGANIZER;CN="Pause%20Fashion%20Hub":MAILTO:info@pausefashionhub.com
GEO:48.8640091;2.36498
X-APPLE-STRUCTURED-LOCATION;VALUE=URI;X-ADDRESS=126 rue de Turenne 126 rue de Turenne Paris 75003 France;X-APPLE-RADIUS=500;X-TITLE=126 rue de Turenne:geo:2.36498,48.8640091
END:VEVENT
END:VCALENDAR