BEGIN:VCALENDAR
VERSION:2.0
PRODID:-//SloWeAre - ECPv5.1.4//NONSGML v1.0//EN
CALSCALE:GREGORIAN
METHOD:PUBLISH
X-WR-CALNAME:SloWeAre
X-ORIGINAL-URL:https://www.sloweare.com
X-WR-CALDESC:Évènements pour SloWeAre
BEGIN:VTIMEZONE
TZID:Europe/Paris
BEGIN:DAYLIGHT
TZOFFSETFROM:+0100
TZOFFSETTO:+0200
TZNAME:CEST
DTSTART:20190331T010000
END:DAYLIGHT
BEGIN:STANDARD
TZOFFSETFROM:+0200
TZOFFSETTO:+0100
TZNAME:CET
DTSTART:20191027T010000
END:STANDARD
END:VTIMEZONE
BEGIN:VEVENT
DTSTART;TZID=Europe/Paris:20190412T180000
DTEND;TZID=Europe/Paris:20190412T200000
DTSTAMP:20260424T224452
CREATED:20190402T221355Z
LAST-MODIFIED:20230506T102749Z
UID:19690-1555092000-1555099200@www.sloweare.com
SUMMARY:[Event / Paris] La mode éco-responsable : De la théorie à la pratique
DESCRIPTION:[vc_row disable_element="yes"][vc_column][vc_column_text]\n \nDécouvrez l'événement La mode éco-responsable : De la théorie à la pratique\nLa mode éco-responsable : De la théorie à la pratique\n[/vc_column_text][/vc_column][/vc_row][vc_row][vc_column][vc_row_inner][vc_column_inner][vc_column_text]\nDeuxième conversation dans le cadre du pop-up éco-responsable organisé à la Garçonnière. \nLa mode éco-responsable : De la théorie à la pratique\, les tendances du marché  \nLa sociologue Madjouline Sbai\, auteure de "Une mode éthique est-elle possible" et Antoine Leneuf\, manager du showroom the Clothette\, spécialisé dans la mode éthique. \nDégustation de café via les cafés LOMI et de thé chai via La main noire\n[/vc_column_text][vc_btn title="Suivre la page Facebook de l'événement" color="violet" align="center" i_icon_fontawesome="fa fa-facebook-square" add_icon="true" link="url:https%3A%2F%2Fwww.facebook.com%2Fevents%2F581128085706192%2F|title:Suivre%20la%20page%20Facebook%20de%20l'%C3%A9v%C3%A9nement|target:%20_blank|"][/vc_column_inner][/vc_row_inner][mk_padding_divider size="0"][/vc_column][/vc_row][vc_row][vc_column][mk_padding_divider size="0"][vc_row_inner is_fullwidth_content="false"][vc_column_inner width="1/4"][/vc_column_inner][vc_column_inner width="1/2"][/vc_column_inner][vc_column_inner width="1/4"][/vc_column_inner][/vc_row_inner][vc_row_inner][vc_column_inner width="4/12"][/vc_column_inner][vc_column_inner width="7/12"][mk_padding_divider size="20"][vc_column_text]\n\n\n\nSlo We Are \n\n\n\n\n\n\nSlo We Are \n\n\n[mk_padding_divider size="15"]Voir nos marques labellisées \n	[mk_padding_divider size="20"]\n[/vc_column_text][vc_column_text]\nVoir nos marques labellisées \n  	\n[/vc_column_text][mk_padding_divider size="20"][/vc_column_inner][vc_column_inner width="1/12"][/vc_column_inner][/vc_row_inner][vc_column_text]\n\n\nVous pouvez nous laisser un commentaire ici[/vc_column_text][vc_column_text]\nSlowez-nous ! Partagez la Slow Attitude avec les personnes que vous aimez \n[/vc_column_text][/vc_column][/vc_row] toolTips('.classtoolTips25'\,'L\'éthique est au cœur de la mode éco-responsable. Se poser les bonnes questions pour appréhender le sujet dans sa globalité\, s’interroger sur la provenance des produits\, leur élaboration\, les moyens mis en œuvre pour leur transformation\, leur distribution\, les conditions dans lesquelles chacune de ces étapes ont été réalisées\, etc. Voilà l’idéal vers lequel tendre.'); 
URL:https://www.sloweare.com/evenement/la-mode-eco-responsable-de-la-theorie-a-la-pratique/
LOCATION:Gloutons\, 47 rue des Archives\, Paris\, 75003\, FR
CATEGORIES:Event,SloWeAre
ATTACH;FMTTYPE=image/jpeg:https://www.sloweare.com/wp-content/uploads/2019/04/19690_image_56182427_2294040857306025_3971421233429348352_o.jpg
GEO:48.8605529;2.3570899
X-APPLE-STRUCTURED-LOCATION;VALUE=URI;X-ADDRESS=Gloutons 47 rue des Archives Paris 75003 FR;X-APPLE-RADIUS=500;X-TITLE=47 rue des Archives:geo:2.3570899,48.8605529
END:VEVENT
END:VCALENDAR