BEGIN:VCALENDAR
VERSION:2.0
PRODID:-//SloWeAre - ECPv5.1.4//NONSGML v1.0//EN
CALSCALE:GREGORIAN
METHOD:PUBLISH
X-WR-CALNAME:SloWeAre
X-ORIGINAL-URL:https://www.sloweare.com
X-WR-CALDESC:Évènements pour SloWeAre
BEGIN:VTIMEZONE
TZID:Europe/Paris
BEGIN:DAYLIGHT
TZOFFSETFROM:+0100
TZOFFSETTO:+0200
TZNAME:CEST
DTSTART:20240331T010000
END:DAYLIGHT
BEGIN:STANDARD
TZOFFSETFROM:+0200
TZOFFSETTO:+0100
TZNAME:CET
DTSTART:20241027T010000
END:STANDARD
END:VTIMEZONE
BEGIN:VEVENT
DTSTART;TZID=Europe/Paris:20241130T100000
DTEND;TZID=Europe/Paris:20241130T170000
DTSTAMP:20260425T002052
CREATED:20241119T144035Z
LAST-MODIFIED:20241119T145801Z
UID:28055-1732960800-1732986000@www.sloweare.com
SUMMARY:Journée de la mode responsable Calais Cœur de vie
DESCRIPTION:[vc_row][vc_column width="3/4"][vc_column_text css=".vc_custom_1732028153416{margin-bottom: 0px !important;}"]Le samedi 30 novembre 2024\, rejoignez-nous pour un événement GRATUIT dédié à une mode durable ! De 10h à 17h\, plongez dans un parcours inspirant autour de la consommation responsable\, du savoir-faire textile et de la créativité locale ! Une journée pour découvrir\, apprendre\, et soutenir une mode qui fait du bien à la planète. \nAu programme : trois lieux pour trois expériences uniques dès 10h avec plusieurs temps forts : \n✨ Calais Cœur de Vie ️ : Village de la Consommation Responsable et de la Seconde Main \n✨ La Cité de la dentelle et de la Mode : Lieu du Savoir-Faire et de la Réparabilité Textile \n\nAteliers de formation en partenariat avec le Lycée du Détroit de Calais : apprenez à prolonger la vie de vos vêtements !\nAtelier réparabilité pour redonner vie à vos habits préférés\, avec TTC2000.\n10h30/ 11h30 Vestiaire de la Réussite : assistez au défilé de mode de la Boutique Défi et laissez-vous inspirer !\n10h-17h : Exposition temporaire de YUIMA NAKAZATO\, « Au-delà de la couture »\, avec des visites flash pour explorer la mode sous un angle artistique et durable.\n15h : Rencontre/ débat avec Thomas Ebélé\, co-auteur du livre « La face cachée des étiquettes »\n\n✨ Médiathèque Louis Aragon : Mode à l’Écran \n\n11h/14h : Deux projections exclusives d’un documentaire captivant sur la mode solidaire\, réalisé dans les quartiers de Roubaix. Plongez dans les récits des habitants\, entre passion pour la mode et nouveaux métiers\, aux côtés de l'association Anti-Fashion.\n14h50 : Rencontre avec la réalisatrice du documentaire « Mé-tissage »\n\n️️ Entrée gratuite et accessible à toutes et tous. Venez nombreux pour faire évoluer ensemble notre vision de la mode ! \n✨ Rejoignez-nous pour faire de la mode responsable un engagement collectif ! \n@grandcalaisterresetmers @mediathequedecalais @sevadec62 @citedeladentelleetdelamode @lafabriquedefi @villedecalais @calaiscoeurdevie\n#journéedelamoderesponsable #modedurable #ecoconception #economiecirculaire #ademe[/vc_column_text][vc_row_inner is_fullwidth_content="false"][vc_column_inner width="1/6"][/vc_column_inner][vc_column_inner width="2/3"][mk_padding_divider size="50"][vc_column_text]Voir nos marques labellisées \n  	[/vc_column_text][/vc_column_inner][vc_column_inner width="1/6"][/vc_column_inner][/vc_row_inner][vc_column_text]\nSlowez-nous ! Partagez la Slow Attitude avec les personnes que vous aimez[/vc_column_text][vc_column_text]\n\n\n[/vc_column_text][/vc_column][vc_column width="1/4"][mk_custom_sidebar visibility="hidden-sm" sidebar="sidebar-19"][/vc_column][/vc_row][vc_row disable_element="yes"][vc_column][vc_column_text]Les autres médias qui en parlent.[/vc_column_text][/vc_column][/vc_row] toolTips('.classtoolTips12'\,'Trouver des pièces différentes des tendances proposées par les enseignes\, redonner une seconde vie à un vêtement\, éviter le gaspillage et valoriser l’économie circulaire dans une optique de zéro déchet. A la condition que le modèle économique soit éco-responsable bien évidemment !');  toolTips('.classtoolTips14'\,'En soutenant des créateurs et les savoir-faire traditionnels\, nous agissons en faveur de l’intelligence collective et de la transmission du savoir. Valorisons les artisans qui confectionnent nos vêtements avec amour.');  toolTips('.classtoolTips16'\,'Retrouvez notre guide des étiquettes pour mieux les décrypter.'); 
URL:https://www.sloweare.com/evenement/journee-de-la-mode-responsable-calais-coeur-de-vie/
LOCATION:Calais Cœur de vie\, 6 Boulevard Jacquard\, Calais\, 62100
CATEGORIES:A la une,Conférence
ATTACH;FMTTYPE=image/jpeg:https://www.sloweare.com/wp-content/uploads/2024/11/journee-de-la-mode-responsable-calais-coeur-de-vie.jpg
GEO:50.9482437;1.8561904
X-APPLE-STRUCTURED-LOCATION;VALUE=URI;X-ADDRESS=Calais Cœur de vie 6 Boulevard Jacquard Calais 62100;X-APPLE-RADIUS=500;X-TITLE=6 Boulevard Jacquard:geo:1.8561904,50.9482437
END:VEVENT
END:VCALENDAR